View In:
ArcGIS JavaScript
ArcGIS Online Map Viewer
ArcGIS Earth
Service Description: GeneseeForests
Name: GeneseeForests
Description:
Single Fused Map Cache: false
Extent:
XMin: 972794.999982262
YMin: 2260424.9993079496
XMax: 1017134.9999820262
YMax: 2315084.999307659
Spatial Reference: 5070
(5070)
Initial Extent:
XMin: 972794.999982262
YMin: 2260424.9993079496
XMax: 1017134.9999820262
YMax: 2315084.999307659
Spatial Reference: 5070
(5070)
Full Extent:
XMin: 972794.999982262
YMin: 2260424.9993079496
XMax: 1017134.9999820262
YMax: 2315084.999307659
Spatial Reference: 5070
(5070)
Pixel Size X: 29.999999999840423
Pixel Size Y: 29.99999999984052
Band Count: 1
Pixel Type: S16
RasterFunction Infos: {"rasterFunctionInfos": [{
"name": "None",
"description": "",
"help": ""
}]}
Mensuration Capabilities: Basic
Inspection Capabilities:
Has Histograms: true
Has Colormap: false
Has Multi Dimensions : false
Rendering Rule:
Min Scale: 0
Max Scale: 0
Copyright Text:
Service Data Type: esriImageServiceDataTypeGeneric
Min Values: 9
Max Values: 13
Mean Values: 10.376320945276209
Standard Deviation Values: 1.8170942070718301
Object ID Field:
Fields:
None
Default Mosaic Method: Center
Allowed Mosaic Methods:
SortField:
SortValue: null
Mosaic Operator: First
Default Compression Quality: 75
Default Resampling Method: Bilinear
Max Record Count: null
Max Image Height: 4100
Max Image Width: 15000
Max Download Image Count: null
Max Mosaic Image Count: null
Allow Raster Function: true
Allow Copy: true
Allow Analysis: true
Allow Compute TiePoints: false
Supports Statistics: false
Supports Advanced Queries: false
Use StandardizedQueries: true
Raster Type Infos:
Name: Raster Dataset
Description: Supports all ArcGIS Raster Datasets
Help:
Has Raster Attribute Table: true
Edit Fields Info: null
Ownership Based AccessControl For Rasters: null
Child Resources:
Info
Raster Attribute Table
Histograms
Statistics
Key Properties
Legend
Raster Function Infos
Supported Operations:
Export Image
Identify
Measure
Compute Histograms
Compute Statistics Histograms
Get Samples
Compute Class Statistics
Query Boundary
Compute Pixel Location
Compute Angles
Validate
Project