View In:
ArcGIS JavaScript
ArcGIS Online Map Viewer
ArcGIS Earth
Service Description: MIWMD/prism_ppt_us_30s_1971_MI
Name: MIWMD/prism_ppt_us_30s_1971_MI
Description:
Single Fused Map Cache: false
Extent:
XMin: -91.56250000133852
YMin: 40.8625000003625
XMax: -82.02083333505352
YMax: 47.5625000000945
Spatial Reference: 4269
(4269)
Initial Extent:
XMin: -91.56250000133852
YMin: 40.8625000003625
XMax: -82.02083333505352
YMax: 47.5625000000945
Spatial Reference: 4269
(4269)
Full Extent:
XMin: -91.56250000133852
YMin: 40.8625000003625
XMax: -82.02083333505352
YMax: 47.5625000000945
Spatial Reference: 4269
(4269)
Pixel Size X: 0.008333333332999997
Pixel Size Y: 0.008333333333000001
Band Count: 1
Pixel Type: F32
RasterFunction Infos: {"rasterFunctionInfos": [{
"name": "None",
"description": "",
"help": ""
}]}
Mensuration Capabilities: Basic
Inspection Capabilities:
Has Histograms: true
Has Colormap: false
Has Multi Dimensions : false
Rendering Rule:
Min Scale: 0
Max Scale: 0
Copyright Text:
Service Data Type: esriImageServiceDataTypeGeneric
Min Values: 517.54296875
Max Values: 1078.4310302734
Mean Values: 773.7849762965
Standard Deviation Values: 100.69314654414
Object ID Field:
Fields:
None
Default Mosaic Method: Center
Allowed Mosaic Methods:
SortField:
SortValue: null
Mosaic Operator: First
Default Compression Quality: 75
Default Resampling Method: Bilinear
Max Record Count: null
Max Image Height: 4100
Max Image Width: 15000
Max Download Image Count: null
Max Mosaic Image Count: null
Allow Raster Function: true
Allow Copy: true
Allow Analysis: true
Allow Compute TiePoints: false
Supports Statistics: false
Supports Advanced Queries: false
Use StandardizedQueries: true
Raster Type Infos:
Name: Raster Dataset
Description: Supports all ArcGIS Raster Datasets
Help:
Has Raster Attribute Table: false
Edit Fields Info: null
Ownership Based AccessControl For Rasters: null
Child Resources:
Info
Histograms
Statistics
Key Properties
Legend
Raster Function Infos
Supported Operations:
Export Image
Identify
Measure
Compute Histograms
Compute Statistics Histograms
Get Samples
Compute Class Statistics
Query Boundary
Compute Pixel Location
Compute Angles
Validate
Project